BEGIN:VCALENDAR
VERSION:2.0
PRODID:-//Asociación Cántabra de Diabetes - ECPv5.9.1//NONSGML v1.0//EN
CALSCALE:GREGORIAN
METHOD:PUBLISH
X-WR-CALNAME:Asociación Cántabra de Diabetes
X-ORIGINAL-URL:https://www.diabetescantabria.org
X-WR-CALDESC:Eventos para Asociación Cántabra de Diabetes
BEGIN:VTIMEZONE
TZID:UTC
BEGIN:STANDARD
TZOFFSETFROM:+0000
TZOFFSETTO:+0000
TZNAME:UTC
DTSTART:20210101T000000
END:STANDARD
END:VTIMEZONE
BEGIN:VEVENT
DTSTART;TZID=UTC:20211201T000000
DTEND;TZID=UTC:20211213T170000
DTSTAMP:20260422T084839
CREATED:20211201T182132Z
LAST-MODIFIED:20211201T182339Z
UID:624-1638316800-1639414800@www.diabetescantabria.org
SUMMARY:POSTAL NAVIDEÑA
DESCRIPTION:Como el año pasado la Asociación Cántabra de Diabetes (ACD) quiere proponer este año a los peque de la asociación una actividad desde sus casa. \n  \nDiseñar una «Postal Navideña» para felicitar a todos los socios este año. No importa la edad que tengan. \n  \nPara ello\, necesitamos que diseñen/dibujen una postal relacionada con la Navidad.  Una de todas las que nos enviéis será seleccionada para mandarla como felicitación de las fiestas de éste año de la Asociación. \n  \nEnvíanos una foto de tu postal a diabetescantabria@gmail.com\, junto con: \n  \n* Nombre y apellidos: \n* Edad: \n* Teléfono: \n* Correo electrónico. \n* Si tienes diabetes y de qué tipo: \n  \nEl plazo de presentación de las Postales Navideñas será hasta el lunes 13 de diciembre 2021. \n  \n¡ANÍMATE\, Tendrás recompensa! \n\n			Share on FacebookTweetFollow us
URL:https://www.diabetescantabria.org/event/postal-navidena
LOCATION:Asociación Cántabra de Diabetes\, Plaza Rubén Darío s/n\, Santander\, CANTABRIA\, 39005\, España
CATEGORIES:Actividades con menores
ATTACH;FMTTYPE=application/pdf:https://www.diabetescantabria.org/wp-content/uploads/2021/12/Publicidad-Postal-Navidena-1.pdf
ORGANIZER;CN="ASOCIACI%C3%93N%20C%C3%81NTABNRA%20DE%20DIABETES":MAILTO:diabetescantabria@gmail.com
END:VEVENT
END:VCALENDAR