BEGIN:VCALENDAR
VERSION:2.0
PRODID:-//Asociación Cántabra de Diabetes - ECPv5.9.1//NONSGML v1.0//EN
CALSCALE:GREGORIAN
METHOD:PUBLISH
X-WR-CALNAME:Asociación Cántabra de Diabetes
X-ORIGINAL-URL:https://www.diabetescantabria.org
X-WR-CALDESC:Eventos para Asociación Cántabra de Diabetes
BEGIN:VTIMEZONE
TZID:UTC
BEGIN:STANDARD
TZOFFSETFROM:+0000
TZOFFSETTO:+0000
TZNAME:UTC
DTSTART:20260101T000000
END:STANDARD
END:VTIMEZONE
BEGIN:VEVENT
DTSTART;TZID=UTC:20260422T080000
DTEND;TZID=UTC:20260422T170000
DTSTAMP:20260422T160530
CREATED:20260421T151706Z
LAST-MODIFIED:20260421T151750Z
UID:992-1776844800-1776877200@www.diabetescantabria.org
SUMMARY:Importancia de la vacunación en la diabetes
DESCRIPTION:Share on FacebookTweetFollow us
URL:https://www.diabetescantabria.org/event/importancia-de-la-vacunacion-en-la-diabetes
LOCATION:Asociación Cántabra de Diabetes\, Plaza Rubén Darío s/n\, Santander\, CANTABRIA\, 39005\, España
ORGANIZER;CN="ASOCIACI%C3%93N%20C%C3%81NTABNRA%20DE%20DIABETES":MAILTO:diabetescantabria@gmail.com
END:VEVENT
END:VCALENDAR