BEGIN:VCALENDAR
VERSION:2.0
PRODID:-//Asociación Cántabra de Diabetes - ECPv5.9.1//NONSGML v1.0//EN
CALSCALE:GREGORIAN
METHOD:PUBLISH
X-WR-CALNAME:Asociación Cántabra de Diabetes
X-ORIGINAL-URL:https://www.diabetescantabria.org
X-WR-CALDESC:Eventos para Asociación Cántabra de Diabetes
BEGIN:VTIMEZONE
TZID:UTC
BEGIN:STANDARD
TZOFFSETFROM:+0000
TZOFFSETTO:+0000
TZNAME:UTC
DTSTART:20260101T000000
END:STANDARD
END:VTIMEZONE
BEGIN:VEVENT
DTSTART;TZID=UTC:20260324T093000
DTEND;TZID=UTC:20260324T113000
DTSTAMP:20260422T122100
CREATED:20260325T174339Z
LAST-MODIFIED:20260325T174641Z
UID:987-1774344600-1774351800@www.diabetescantabria.org
SUMMARY:Desayuno con el Consejero de Salud
DESCRIPTION:Share on FacebookTweetFollow us
URL:https://www.diabetescantabria.org/event/desayuno-con-el-consejero-de-salud
END:VEVENT
END:VCALENDAR