BEGIN:VCALENDAR
VERSION:2.0
PRODID:-//Asociación Cántabra de Diabetes - ECPv5.9.1//NONSGML v1.0//EN
CALSCALE:GREGORIAN
METHOD:PUBLISH
X-WR-CALNAME:Asociación Cántabra de Diabetes
X-ORIGINAL-URL:https://www.diabetescantabria.org
X-WR-CALDESC:Eventos para Asociación Cántabra de Diabetes
BEGIN:VTIMEZONE
TZID:UTC
BEGIN:STANDARD
TZOFFSETFROM:+0000
TZOFFSETTO:+0000
TZNAME:UTC
DTSTART:20260101T000000
END:STANDARD
END:VTIMEZONE
BEGIN:VEVENT
DTSTART;VALUE=DATE:20260411
DTEND;VALUE=DATE:20260412
DTSTAMP:20260422T140203
CREATED:20260325T174522Z
LAST-MODIFIED:20260325T174522Z
UID:989-1775865600-1775951999@www.diabetescantabria.org
SUMMARY:Cooking Class
DESCRIPTION:La Asociación Cántabra de Diabetes retoma este año sus actividades dirigidas a los más pequeños. En esta ocasión hemos organizado un pequeño taller de cocina: “Cooking Class”\, una actividad pensada para que los niños disfruten\, aprendan y compartan una experiencia diferente. \nLa actividad tendrá lugar el 11 de abril a las 16:30 h en la sede de la Asociación y estará dirigida a niños y niñas de entre 6 y 14 años. Durante el taller aprenderán a preparar recetas sencillas de forma divertida y creativa\, fomentando la convivencia\, la creatividad y el compañerismo\, mientras pasan un rato agradable con otros niños. \nAdemás\, cada participante podrá traer a un acompañante de su misma edad o en edad comprendida entre 6 y 14 años para disfrutar juntos de la actividad. \nOrganización de la actividad: \n16:30h– Recepción de los niños\n17:15 h (aprox.) – Merienda\n18:00 h (aprox.) – Finalización de la actividad \n💶 Precio de la actividad: \n\n5 € para socios\n8 € para no socios\n\nNo es necesario traer merienda.\nLos niños únicamente deberán traer su mochila\, bolso o cartera identificativa con el material necesario para la gestión de posibles hipoglucemias (medidores\, insulina\, etc.). \nSi tenéis cualquier duda sobre la actividad\, podéis poneros en contacto con nosotros a través del correo electrónico (diabetescantabria@gmail.com) o por teléfono (942 27 40 22). \n📝 El plazo límite para inscribirse es hasta el martes 7 de abril de 2026.\nRecordamos que sin inscripción previa no se podrá participar en la actividad. \nEsperamos contar con vuestra presencia y que los niños disfruten de una tarde divertida y diferente. \n\n			Share on FacebookTweetFollow us
URL:https://www.diabetescantabria.org/event/cooking-class
CATEGORIES:Actividades con menores
ATTACH;FMTTYPE=image/jpeg:https://www.diabetescantabria.org/wp-content/uploads/2026/03/Cooking-Class-scaled.jpg
ORGANIZER;CN="ASOCIACI%C3%93N%20C%C3%81NTABNRA%20DE%20DIABETES":MAILTO:diabetescantabria@gmail.com
END:VEVENT
END:VCALENDAR